BEGIN:VCALENDAR
VERSION:2.0
PRODID:gruene-aoe.de
METHOD:PUBLISH
BEGIN:VTIMEZONE
TZID:Europe/Berlin
X-LIC-LOCATION:Europe/Berlin
BEGIN:DAYLIGHT
TZOFFSETFROM:+0100
TZOFFSETTO:+0200
TZNAME:CEST
DTSTART:19700329T020000
RRULE:FREQ=YEARLY;INTERVAL=1;BYDAY=-1SU;BYMONTH=3
END:DAYLIGHT
BEGIN:STANDARD
TZOFFSETFROM:+0200
TZOFFSETTO:+0100
TZNAME:CET
DTSTART:19701025T030000
RRULE:FREQ=YEARLY;INTERVAL=1;BYDAY=-1SU;BYMONTH=10
END:STANDARD
END:VTIMEZONE
BEGIN:VEVENT
UID:a7ebbc866ff038f9950f4f5cd3b13966@gruene-aoe.de
URL;VALUE=URI:https://gruene-aoe.de/termine/altoetting-in-den-mvv-buerger
 info/
LOCATION:Bürgerhaus Burghausen, Gartensaal, Marktlerstraße 15a, Burghau
 sen
SUMMARY:Altötting in den MVV? Bürgerinfo
DESCRIPTION;ALTREP="data:text/html,%0A%3Cp%3EPodiumsdiskussion%20mit%20Ex
 pert%2Ainnen%20zum%20Thema%20Chancen%20und%20Risiken%20des%20MVV-Beitritt
 %3Cbr%3E%3C%2Fp%3E%0A%0A%0A%0A%3Cp%3E%3C%2Fp%3E%0A":Podiumsdiskussion mit
  Expert*innen zum Thema Chancen und Risiken des MVV-Beitritt
CLASS:PUBLIC
DTSTART;TZID=Europe/Berlin:20250922T190000
DTEND;TZID=Europe/Berlin:20250922T200000
DTSTAMP:20260419T121118
END:VEVENT
END:VCALENDAR